{
 "currentVersion": 11.5,
 "serviceDescription": "Historic/Clifton_Mfg_No1_Village_1951",
 "serviceItemId": "de9efef509fe4d588484a2daeae54909",
 "name": "Historic/Clifton_Mfg_No1_Village_1951",
 "description": "",
 "extent": {
  "xmin": 1750686.2502056214,
  "ymin": 1145203.4437012777,
  "xmax": 1755972.7135366614,
  "ymax": 1149915.8662581332,
  "spatialReference": {
   "wkid": 3361,
   "latestWkid": 3361
  }
 },
 "initialExtent": {
  "xmin": 1750686.2502056214,
  "ymin": 1145203.4437012777,
  "xmax": 1755972.7135366614,
  "ymax": 1149915.8662581332,
  "spatialReference": {
   "wkid": 3361,
   "latestWkid": 3361
  }
 },
 "fullExtent": {
  "xmin": 1750686.2502056214,
  "ymin": 1145203.4437012777,
  "xmax": 1755972.7135366614,
  "ymax": 1149915.8662581332,
  "spatialReference": {
   "wkid": 3361,
   "latestWkid": 3361
  }
 },
 "sortableFields": "",
 "bandCount": 1,
 "pixelType": "U1",
 "minValues": [
  0
 ],
 "maxValues": [
  1
 ],
 "meanValues": [
  0.95514259254384
 ],
 "stdvValues": [
  0.20699087215601
 ],
 "serviceProperties": "Center<\/MosaicMethod>First<\/MosaicOperator>true<\/SortAscending><\/LockImageID><\/TileOrderField>0<\/TileOrderBase>0.000000<\/AvgImageSpacingX>0.000000<\/AvgImageSpacingY>0.0<\/ViewPointX>0.0<\/ViewPointY>0.0<\/ViewPointDefShiftX>0.0<\/ViewPointDefShiftY>None<\/CompressionMethod>75<\/CompressionQuality>0.010000<\/CompressionTolerance>Bilinear<\/SamplingMethod><\/ImageServiceProperties><\/ImageServer>",
 "allowedFields": "",
 "hasMultidimensions": false,
 "pixelSizeX": 0.5902705818490391,
 "pixelSizeY": 0.6930033171846298,
 "meanPixelSize": 0.19557094221273116,
 "datasetFormat": "TIFF",
 "uncompressedSize": 7612600,
 "blockWidth": 8956,
 "blockHeight": 28,
 "compressionType": "CCITT Group 4",
 "bandNames": [
  "Band_1"
 ],
 "allowCopy": true,
 "allowAnalysis": true,
 "itemAccess": false,
 "inspectionCapabilities": "",
 "minPixelSize": 0,
 "maxPixelSize": 0,
 "copyrightText": "",
 "serviceDataType": "esriImageServiceDataTypeThematic",
 "serviceSourceType": "esriImageServiceSourceTypeDataset",
 "objectIdField": "",
 "fields": [],
 "capabilities": "Image,Metadata,Mensuration",
 "defaultMosaicMethod": "Center",
 "allowedMosaicMethods": "",
 "sortField": "",
 "sortValue": null,
 "sortAscending": true,
 "mosaicOperator": "First",
 "defaultCompressionQuality": 75,
 "defaultResamplingMethod": "Bilinear",
 "maxImageHeight": 4100,
 "maxImageWidth": 15000,
 "allowRasterFunction": true,
 "rasterFunctionInfos": [
  {
   "name": "None",
   "description": "",
   "help": ""
  }
 ],
 "rasterTypeInfos": [
  {
   "name": "Raster Dataset",
   "description": "Supports all ArcGIS Raster Datasets",
   "help": ""
  }
 ],
 "mensurationCapabilities": "Basic",
 "hasHistograms": true,
 "hasColormap": false,
 "hasRasterAttributeTable": false,
 "minScale": 0,
 "maxScale": 0,
 "exportTilesAllowed": false,
 "supportsStatistics": false,
 "supportsAdvancedQueries": false,
 "editFieldsInfo": null,
 "ownershipBasedAccessControlForRasters": null,
 "allowComputeTiePoints": false,
 "useStandardizedQueries": true,
 "advancedQueryCapabilities": {
  "useStandardizedQueries": true,
  "supportsStatistics": false,
  "supportsOrderBy": false,
  "supportsDistinct": false,
  "supportsPagination": false
 },
 "spatialReference": {
  "wkid": 3361,
  "latestWkid": 3361
 }
}
