{
 "currentVersion": 11.5,
 "serviceDescription": "Historic/Riverdale_Mills_1945",
 "serviceItemId": "acc42d71217e425393e8b4fcdd299d9f",
 "name": "Historic/Riverdale_Mills_1945",
 "description": "",
 "extent": {
  "xmin": 1709603.3741798506,
  "ymin": 1024548.630478508,
  "xmax": 1714688.7052545277,
  "ymax": 1029794.1946820734,
  "spatialReference": {
   "wkid": 3361,
   "latestWkid": 3361
  }
 },
 "initialExtent": {
  "xmin": 1709603.3741798506,
  "ymin": 1024548.630478508,
  "xmax": 1714688.7052545277,
  "ymax": 1029794.1946820734,
  "spatialReference": {
   "wkid": 3361,
   "latestWkid": 3361
  }
 },
 "fullExtent": {
  "xmin": 1709603.3741798506,
  "ymin": 1024548.630478508,
  "xmax": 1714688.7052545277,
  "ymax": 1029794.1946820734,
  "spatialReference": {
   "wkid": 3361,
   "latestWkid": 3361
  }
 },
 "sortableFields": "",
 "bandCount": 1,
 "pixelType": "U1",
 "minValues": [
  0
 ],
 "maxValues": [
  1
 ],
 "meanValues": [
  0.84300505571602
 ],
 "stdvValues": [
  0.36379601075731
 ],
 "serviceProperties": "Center<\/MosaicMethod>First<\/MosaicOperator>true<\/SortAscending><\/LockImageID><\/TileOrderField>0<\/TileOrderBase>0.000000<\/AvgImageSpacingX>0.000000<\/AvgImageSpacingY>0.0<\/ViewPointX>0.0<\/ViewPointY>0.0<\/ViewPointDefShiftX>0.0<\/ViewPointDefShiftY>None<\/CompressionMethod>75<\/CompressionQuality>0.010000<\/CompressionTolerance>Bilinear<\/SamplingMethod><\/ImageServiceProperties><\/ImageServer>",
 "allowedFields": "",
 "hasMultidimensions": false,
 "pixelSizeX": 1.0493873451665652,
 "pixelSizeY": 1.0928258757428073,
 "meanPixelSize": 0.3264732948665884,
 "datasetFormat": "TIFF",
 "uncompressedSize": 2906995,
 "blockWidth": 4846,
 "blockHeight": 20,
 "compressionType": "LZW",
 "bandNames": [
  "Band_1"
 ],
 "allowCopy": true,
 "allowAnalysis": true,
 "itemAccess": false,
 "inspectionCapabilities": "",
 "minPixelSize": 0,
 "maxPixelSize": 0,
 "copyrightText": "",
 "serviceDataType": "esriImageServiceDataTypeThematic",
 "serviceSourceType": "esriImageServiceSourceTypeDataset",
 "objectIdField": "",
 "fields": [],
 "capabilities": "Image,Metadata,Mensuration",
 "defaultMosaicMethod": "Center",
 "allowedMosaicMethods": "",
 "sortField": "",
 "sortValue": null,
 "sortAscending": true,
 "mosaicOperator": "First",
 "defaultCompressionQuality": 75,
 "defaultResamplingMethod": "Bilinear",
 "maxImageHeight": 4100,
 "maxImageWidth": 15000,
 "allowRasterFunction": true,
 "rasterFunctionInfos": [
  {
   "name": "None",
   "description": "",
   "help": ""
  }
 ],
 "rasterTypeInfos": [
  {
   "name": "Raster Dataset",
   "description": "Supports all ArcGIS Raster Datasets",
   "help": ""
  }
 ],
 "mensurationCapabilities": "Basic",
 "hasHistograms": true,
 "hasColormap": false,
 "hasRasterAttributeTable": false,
 "minScale": 0,
 "maxScale": 0,
 "exportTilesAllowed": false,
 "supportsStatistics": false,
 "supportsAdvancedQueries": false,
 "editFieldsInfo": null,
 "ownershipBasedAccessControlForRasters": null,
 "allowComputeTiePoints": false,
 "useStandardizedQueries": true,
 "advancedQueryCapabilities": {
  "useStandardizedQueries": true,
  "supportsStatistics": false,
  "supportsOrderBy": false,
  "supportsDistinct": false,
  "supportsPagination": false
 },
 "spatialReference": {
  "wkid": 3361,
  "latestWkid": 3361
 }
}
