View In:
ArcGIS JavaScript
ArcGIS Online Map Viewer
ArcGIS Earth
ArcMap
View Footprint In:
ArcGIS Online Map Viewer
Service Description: 2025_Oblique_Imagery
Name: 2025_Oblique_Imagery
Description:
Single Fused Map Cache: false
Extent:
XMin: 1610988.8747833874
YMin: 978058.2078275111
XMax: 1808785.2525826157
YMax: 1251684.7146922555
Spatial Reference: 3361
(3361)
Initial Extent:
XMin: 1610988.8747833874
YMin: 978058.2078275111
XMax: 1808785.2525826157
YMax: 1251684.7146922555
Spatial Reference: 3361
(3361)
Full Extent:
XMin: 1610988.8747833874
YMin: 978058.2078275111
XMax: 1808785.2525826157
YMax: 1251684.7146922555
Spatial Reference: 3361
(3361)
Pixel Size X: 0.32868443688782367
Pixel Size Y: 0.3286844368878237
Band Count: 3
Pixel Type: U8
RasterFunction Infos: {"rasterFunctionInfos": [{
"name": "None",
"description": "",
"help": ""
}]}
Mensuration Capabilities: None
Has Histograms: true
Has Colormap: false
Has Multi Dimensions : false
Rendering Rule:
Min Scale: 0
Max Scale: 0
Copyright Text:
Service Data Type: esriImageServiceDataTypeRGB
Min Values: 16, 12, 1
Max Values: 255, 255, 255
Mean Values: 111.94343925510289, 100.14419084009171, 90.21043283291957
Standard Deviation Values: 27.140479888841316, 23.948295599187205, 20.751065574452944
Object ID Field: OBJECTID
Fields:
-
OBJECTID
(
type: esriFieldTypeOID, alias: OBJECTID
)
-
Shape
(
type: esriFieldTypeGeometry, alias: Shape
)
-
Name
(
type: esriFieldTypeString, alias: Name, length: 200
)
-
MinPS
(
type: esriFieldTypeDouble, alias: MinPS
)
-
MaxPS
(
type: esriFieldTypeDouble, alias: MaxPS
)
-
LowPS
(
type: esriFieldTypeDouble, alias: LowPS
)
-
HighPS
(
type: esriFieldTypeDouble, alias: HighPS
)
-
Category
(
type: esriFieldTypeInteger, alias: Category
, Coded Values:
[0: Unknown]
, [1: Primary]
, [2: Overview]
, ...6 more...
)
-
Tag
(
type: esriFieldTypeString, alias: Tag, length: 100
)
-
GroupName
(
type: esriFieldTypeString, alias: GroupName, length: 100
)
-
ProductName
(
type: esriFieldTypeString, alias: ProductName, length: 100
)
-
CenterX
(
type: esriFieldTypeDouble, alias: CenterX
)
-
CenterY
(
type: esriFieldTypeDouble, alias: CenterY
)
-
ZOrder
(
type: esriFieldTypeInteger, alias: ZOrder
)
-
Shape_Length
(
type: esriFieldTypeDouble, alias: Shape_Length
)
-
Shape_Area
(
type: esriFieldTypeDouble, alias: Shape_Area
)
-
X
(
type: esriFieldTypeDouble, alias: X
)
-
Y
(
type: esriFieldTypeDouble, alias: Y
)
-
Z
(
type: esriFieldTypeDouble, alias: Z
)
-
Omega
(
type: esriFieldTypeDouble, alias: Omega
)
-
Phi
(
type: esriFieldTypeDouble, alias: Phi
)
-
Kappa
(
type: esriFieldTypeDouble, alias: Kappa
)
-
FocalLength
(
type: esriFieldTypeDouble, alias: FocalLength
)
Default Mosaic Method: Northwest
Allowed Mosaic Methods: NorthWest,Center,LockRaster,ByAttribute,Nadir,Viewpoint,Seamline,None
SortField:
SortValue: null
Mosaic Operator: First
Default Compression Quality: 75
Default Resampling Method: Bilinear
Max Record Count: 1000
Max Image Height: 4100
Max Image Width: 15000
Max Download Image Count: 20
Max Mosaic Image Count: 20
Allow Raster Function: true
Allow Copy: true
Allow Analysis: true
Allow Compute TiePoints: false
Supports Statistics: true
Supports Advanced Queries: true
Use StandardizedQueries: true
Raster Type Infos:
Name: Raster Dataset
Description: Supports all ArcGIS Raster Datasets
Help:
Has Raster Attribute Table: false
Edit Fields Info: null
Ownership Based AccessControl For Rasters: null
Child Resources:
Info
Histograms
Statistics
Key Properties
Legend
Raster Function Infos
Supported Operations:
Export Image
Query
Identify
Compute Histograms
Compute Statistics Histograms
Get Samples
Compute Class Statistics
Query Boundary
Compute Pixel Location
Compute Angles
Validate
Project