View In:
ArcGIS JavaScript
ArcGIS Online Map Viewer
ArcGIS Earth
Service Description: Historic/Riverdale_Mills_1956_to_1957
Name: Historic/Riverdale_Mills_1956_to_1957
Description:
Single Fused Map Cache: false
Extent:
XMin: 1709685.4745689582
YMin: 1025403.8447584844
XMax: 1715225.0874289006
YMax: 1030068.1395610158
Spatial Reference: 3361
(3361)
LatestVCSWkid(0)
Initial Extent:
XMin: 1709685.4745689582
YMin: 1025403.8447584844
XMax: 1715225.0874289006
YMax: 1030068.1395610158
Spatial Reference: 3361
(3361)
LatestVCSWkid(0)
Full Extent:
XMin: 1709685.4745689582
YMin: 1025403.8447584844
XMax: 1715225.0874289006
YMax: 1030068.1395610158
Spatial Reference: 3361
(3361)
LatestVCSWkid(0)
Pixel Size X: 0.9232688099904142
Pixel Size Y: 0.5042480867601478
Band Count: 1
Pixel Type: U1
RasterFunction Infos: {"rasterFunctionInfos": [{
"name": "None",
"description": "",
"help": ""
}]}
Mensuration Capabilities: Basic
Inspection Capabilities:
Has Histograms: true
Has Colormap: false
Has Multi Dimensions : false
Rendering Rule:
Min Scale: 0
Max Scale: 0
Copyright Text:
Service Data Type: esriImageServiceDataTypeThematic
Min Values: 0
Max Values: 1
Mean Values: 0.95066054054057
Standard Deviation Values: 0.21657580207594
Object ID Field:
Fields:
None
Default Mosaic Method: Center
Allowed Mosaic Methods:
SortField:
SortValue: null
Mosaic Operator: First
Default Compression Quality: 75
Default Resampling Method: Bilinear
Max Record Count: null
Max Image Height: 4100
Max Image Width: 15000
Max Download Image Count: null
Max Mosaic Image Count: null
Allow Raster Function: true
Allow Copy: true
Allow Analysis: true
Allow Compute TiePoints: false
Supports Statistics: false
Supports Advanced Queries: false
Use StandardizedQueries: true
Raster Type Infos:
Name: Raster Dataset
Description: Supports all ArcGIS Raster Datasets
Help:
Has Raster Attribute Table: false
Edit Fields Info: null
Ownership Based AccessControl For Rasters: null
Child Resources:
Info
Histograms
Statistics
Key Properties
Legend
Raster Function Infos
Supported Operations:
Export Image
Identify
Measure
Compute Histograms
Compute Statistics Histograms
Get Samples
Compute Class Statistics
Query Boundary
Compute Pixel Location
Compute Angles
Validate
Project